BEGIN:VCALENDAR
VERSION:2.0
PRODID:-//Plone.org//NONSGML plone.app.event//EN
X-WR-TIMEZONE:Europe/Vienna
BEGIN:VEVENT
SUMMARY:Prozesstaktik im Erb- und Pflichtteilsrecht
DTSTART;VALUE=DATE:20261015
DTEND;VALUE=DATE:20261016
DTSTAMP:20260420T030713Z
UID:62666e6344584129b277bfbb6b9ee167@www.hofmannlaw.at
RRULE:FREQ=DAILY;COUNT=7;INTERVAL=0
EXDATE;TZID=Europe/Vienna:20260421T000000
CONTACT:https://ars.at/seminar/33201/
CREATED:20251017T093619Z
DESCRIPTION:Ansprüche erfolgreich durchsetzen und abwehren
LAST-MODIFIED:20251017T093913Z
LOCATION:ARS
URL:https://www.hofmannlaw.at/de/aktuelles/termine/copy_of_prozesstaktik-i
 m-erb-und-pflichtteilsrecht-1
END:VEVENT
END:VCALENDAR
