BEGIN:VCALENDAR
VERSION:2.0
PRODID:-//Plone.org//NONSGML plone.app.event//EN
X-WR-TIMEZONE:Europe/Vienna
BEGIN:VEVENT
SUMMARY:Erbrechts-Streit-Gespräch
DTSTART;VALUE=DATE:20260226
DTEND;VALUE=DATE:20260227
DTSTAMP:20260420T063148Z
UID:5fb024411292484a8a833de1200d8112@www.hofmannlaw.at
CONTACT:https://www.awak.at/seminare/detail/20260226B-8/
CREATED:20251017T093124Z
DESCRIPTION:Wichtige Praxisfragen zum Erbrechtsstreit
LAST-MODIFIED:20251017T093230Z
URL:https://www.hofmannlaw.at/de/aktuelles/termine/erbrechts-streit-gespra
 ech-wichtige-praxisfragen-zum-erbrechtsstreit
END:VEVENT
END:VCALENDAR
