BEGIN:VCALENDAR
VERSION:2.0
PRODID:-//Plone.org//NONSGML plone.app.event//EN
X-WR-TIMEZONE:Europe/Vienna
BEGIN:VEVENT
SUMMARY:Prozesstaktik im Erb- und Pflichtteilsrecht
DTSTART;VALUE=DATE:20260420
DTEND;VALUE=DATE:20260421
DTSTAMP:20260420T030707Z
UID:02c7b8e2e8cd450982f1cea5d2b9bdeb@www.hofmannlaw.at
RRULE:FREQ=DAILY;COUNT=7;INTERVAL=0
EXDATE;TZID=Europe/Vienna:20260421T000000
CONTACT:https://ars.at/seminar/33201/
CREATED:20251017T093619Z
DESCRIPTION:Ansprüche erfolgreich durchsetzen und abwehren
LAST-MODIFIED:20251017T093812Z
LOCATION:ARS
URL:https://www.hofmannlaw.at/de/aktuelles/termine/prozesstaktik-im-erb-un
 d-pflichtteilsrecht-1
END:VEVENT
END:VCALENDAR
